BEGIN:VCALENDAR
VERSION:2.0
PRODID:-//Upgraded Industries - ECPv6.15.17.1//NONSGML v1.0//EN
CALSCALE:GREGORIAN
METHOD:PUBLISH
X-ORIGINAL-URL:https://upgradedindustries.com
X-WR-CALDESC:Events for Upgraded Industries
REFRESH-INTERVAL;VALUE=DURATION:PT1H
X-Robots-Tag:noindex
X-PUBLISHED-TTL:PT1H
BEGIN:VTIMEZONE
TZID:America/New_York
BEGIN:DAYLIGHT
TZOFFSETFROM:-0500
TZOFFSETTO:-0400
TZNAME:EDT
DTSTART:20240310T070000
END:DAYLIGHT
BEGIN:STANDARD
TZOFFSETFROM:-0400
TZOFFSETTO:-0500
TZNAME:EST
DTSTART:20241103T060000
END:STANDARD
BEGIN:DAYLIGHT
TZOFFSETFROM:-0500
TZOFFSETTO:-0400
TZNAME:EDT
DTSTART:20250309T070000
END:DAYLIGHT
BEGIN:STANDARD
TZOFFSETFROM:-0400
TZOFFSETTO:-0500
TZNAME:EST
DTSTART:20251102T060000
END:STANDARD
BEGIN:DAYLIGHT
TZOFFSETFROM:-0500
TZOFFSETTO:-0400
TZNAME:EDT
DTSTART:20260308T070000
END:DAYLIGHT
BEGIN:STANDARD
TZOFFSETFROM:-0400
TZOFFSETTO:-0500
TZNAME:EST
DTSTART:20261101T060000
END:STANDARD
END:VTIMEZONE
BEGIN:VEVENT
DTSTART;TZID=America/New_York:20251209T180000
DTEND;TZID=America/New_York:20251209T190000
DTSTAMP:20260420T095605
CREATED:20251204T014754Z
LAST-MODIFIED:20251204T014754Z
UID:3658-1765303200-1765306800@upgradedindustries.com
SUMMARY:Striking
DESCRIPTION:Striking
URL:https://upgradedindustries.com/event/striking-2/
LOCATION:Upgraded Industries\, 7673 Saint Clair Avenue\, Mentor\, 44060\, United States
CATEGORIES:Class
END:VEVENT
BEGIN:VEVENT
DTSTART;TZID=America/New_York:20251209T180000
DTEND;TZID=America/New_York:20251209T190000
DTSTAMP:20260420T095605
CREATED:20251204T014754Z
LAST-MODIFIED:20251204T014754Z
UID:3659-1765303200-1765306800@upgradedindustries.com
SUMMARY:No Gi Jiu-Jitsu
DESCRIPTION:No Gi Jiu-Jitsu
URL:https://upgradedindustries.com/event/no-gi-jiu-jitsu-3/
LOCATION:Upgraded Industries\, 7673 Saint Clair Avenue\, Mentor\, 44060\, United States
CATEGORIES:Class
END:VEVENT
BEGIN:VEVENT
DTSTART;TZID=America/New_York:20251209T170000
DTEND;TZID=America/New_York:20251209T180000
DTSTAMP:20260420T095605
CREATED:20251204T014754Z
LAST-MODIFIED:20251204T014754Z
UID:3657-1765299600-1765303200@upgradedindustries.com
SUMMARY:Fight Conditioning
DESCRIPTION:Fight Conditioning
URL:https://upgradedindustries.com/event/fight-conditioning-2/
LOCATION:Upgraded Industries\, 7673 Saint Clair Avenue\, Mentor\, 44060\, United States
CATEGORIES:Class
END:VEVENT
BEGIN:VEVENT
DTSTART;TZID=America/New_York:20251209T100000
DTEND;TZID=America/New_York:20251209T110000
DTSTAMP:20260420T095605
CREATED:20251204T014754Z
LAST-MODIFIED:20251204T014754Z
UID:3656-1765274400-1765278000@upgradedindustries.com
SUMMARY:No Gi Jiu-Jitsu
DESCRIPTION:No Gi Jiu-Jitsu
URL:https://upgradedindustries.com/event/no-gi-jiu-jitsu-2/
LOCATION:Upgraded Industries\, 7673 Saint Clair Avenue\, Mentor\, 44060\, United States
CATEGORIES:Class
END:VEVENT
BEGIN:VEVENT
DTSTART;TZID=America/New_York:20251208T190000
DTEND;TZID=America/New_York:20251208T200000
DTSTAMP:20260420T095605
CREATED:20251204T014754Z
LAST-MODIFIED:20251204T014754Z
UID:3655-1765220400-1765224000@upgradedindustries.com
SUMMARY:Advanced Club Wrestling
DESCRIPTION:Advanced Club Wrestling
URL:https://upgradedindustries.com/event/advanced-club-wrestling/
LOCATION:Upgraded Industries\, 7673 Saint Clair Avenue\, Mentor\, 44060\, United States
CATEGORIES:Class
END:VEVENT
BEGIN:VEVENT
DTSTART;TZID=America/New_York:20251208T183000
DTEND;TZID=America/New_York:20251208T193000
DTSTAMP:20260420T095605
CREATED:20251204T014749Z
LAST-MODIFIED:20251204T014749Z
UID:3654-1765218600-1765222200@upgradedindustries.com
SUMMARY:Adult Boxing
DESCRIPTION:Adult Boxing
URL:https://upgradedindustries.com/event/adult-boxing/
LOCATION:Upgraded Industries\, 7673 Saint Clair Avenue\, Mentor\, 44060\, United States
CATEGORIES:Class
END:VEVENT
BEGIN:VEVENT
DTSTART;TZID=America/New_York:20251208T180000
DTEND;TZID=America/New_York:20251208T190000
DTSTAMP:20260420T095605
CREATED:20251204T014749Z
LAST-MODIFIED:20251204T014749Z
UID:3652-1765216800-1765220400@upgradedindustries.com
SUMMARY:Striking
DESCRIPTION:Striking
URL:https://upgradedindustries.com/event/striking/
LOCATION:Upgraded Industries\, 7673 Saint Clair Avenue\, Mentor\, 44060\, United States
CATEGORIES:Class
END:VEVENT
BEGIN:VEVENT
DTSTART;TZID=America/New_York:20251208T180000
DTEND;TZID=America/New_York:20251208T190000
DTSTAMP:20260420T095605
CREATED:20251204T014749Z
LAST-MODIFIED:20251204T014749Z
UID:3653-1765216800-1765220400@upgradedindustries.com
SUMMARY:Wrestling for No-Gi Jiu-Jitsu
DESCRIPTION:Wrestling for No-Gi Jiu-Jitsu
URL:https://upgradedindustries.com/event/wrestling-for-no-gi-jiu-jitsu/
LOCATION:Upgraded Industries\, 7673 Saint Clair Avenue\, Mentor\, 44060\, United States
CATEGORIES:Class
END:VEVENT
BEGIN:VEVENT
DTSTART;TZID=America/New_York:20251208T170000
DTEND;TZID=America/New_York:20251208T180000
DTSTAMP:20260420T095605
CREATED:20251204T014749Z
LAST-MODIFIED:20251204T014749Z
UID:3651-1765213200-1765216800@upgradedindustries.com
SUMMARY:Fight Conditioning
DESCRIPTION:Fight Conditioning
URL:https://upgradedindustries.com/event/fight-conditioning/
LOCATION:Upgraded Industries\, 7673 Saint Clair Avenue\, Mentor\, 44060\, United States
CATEGORIES:Class
END:VEVENT
BEGIN:VEVENT
DTSTART;TZID=America/New_York:20251208T100000
DTEND;TZID=America/New_York:20251208T110000
DTSTAMP:20260420T095605
CREATED:20251204T014749Z
LAST-MODIFIED:20251204T014749Z
UID:3650-1765188000-1765191600@upgradedindustries.com
SUMMARY:No Gi Jiu-Jitsu
DESCRIPTION:No Gi Jiu-Jitsu
URL:https://upgradedindustries.com/event/no-gi-jiu-jitsu/
LOCATION:Upgraded Industries\, 7673 Saint Clair Avenue\, Mentor\, 44060\, United States
CATEGORIES:Class
END:VEVENT
END:VCALENDAR